BEGIN:VCALENDAR
VERSION:2.0
PRODID:-//Hubbardston Public Library - ECPv6.15.20//NONSGML v1.0//EN
CALSCALE:GREGORIAN
METHOD:PUBLISH
X-WR-CALNAME:Hubbardston Public Library
X-ORIGINAL-URL:https://hubbardstonpubliclibrary.org
X-WR-CALDESC:Events for Hubbardston Public Library
REFRESH-INTERVAL;VALUE=DURATION:PT1H
X-Robots-Tag:noindex
X-PUBLISHED-TTL:PT1H
BEGIN:VTIMEZONE
TZID:America/New_York
BEGIN:DAYLIGHT
TZOFFSETFROM:-0500
TZOFFSETTO:-0400
TZNAME:EDT
DTSTART:20240310T070000
END:DAYLIGHT
BEGIN:STANDARD
TZOFFSETFROM:-0400
TZOFFSETTO:-0500
TZNAME:EST
DTSTART:20241103T060000
END:STANDARD
BEGIN:DAYLIGHT
TZOFFSETFROM:-0500
TZOFFSETTO:-0400
TZNAME:EDT
DTSTART:20250309T070000
END:DAYLIGHT
BEGIN:STANDARD
TZOFFSETFROM:-0400
TZOFFSETTO:-0500
TZNAME:EST
DTSTART:20251102T060000
END:STANDARD
BEGIN:DAYLIGHT
TZOFFSETFROM:-0500
TZOFFSETTO:-0400
TZNAME:EDT
DTSTART:20260308T070000
END:DAYLIGHT
BEGIN:STANDARD
TZOFFSETFROM:-0400
TZOFFSETTO:-0500
TZNAME:EST
DTSTART:20261101T060000
END:STANDARD
BEGIN:DAYLIGHT
TZOFFSETFROM:-0500
TZOFFSETTO:-0400
TZNAME:EDT
DTSTART:20270314T070000
END:DAYLIGHT
BEGIN:STANDARD
TZOFFSETFROM:-0400
TZOFFSETTO:-0500
TZNAME:EST
DTSTART:20271107T060000
END:STANDARD
END:VTIMEZONE
BEGIN:VEVENT
DTSTART;TZID=America/New_York:20251013T120000
DTEND;TZID=America/New_York:20251013T120000
DTSTAMP:20260424T020053
CREATED:20250925T204859Z
LAST-MODIFIED:20250925T204900Z
UID:18929-1760356800-1760356800@hubbardstonpubliclibrary.org
SUMMARY:Columbus Day Holiday - Library will be closed
DESCRIPTION:
URL:https://hubbardstonpubliclibrary.org/event/columbus-day-holiday-library-will-be-closed/
END:VEVENT
BEGIN:VEVENT
DTSTART;TZID=America/New_York:20251017T180000
DTEND;TZID=America/New_York:20251017T200000
DTSTAMP:20260424T020053
CREATED:20251006T192652Z
LAST-MODIFIED:20251006T192653Z
UID:18973-1760724000-1760731200@hubbardstonpubliclibrary.org
SUMMARY:Spooky Painting Night
DESCRIPTION:Are you ready for some spooky fun? Join us while we make some haunting pictures in time for Halloween!
URL:https://hubbardstonpubliclibrary.org/event/spooky-painting-night/
CATEGORIES:Adults
END:VEVENT
BEGIN:VEVENT
DTSTART;TZID=America/New_York:20251018T100000
DTEND;TZID=America/New_York:20251018T110000
DTSTAMP:20260424T020053
CREATED:20251006T193248Z
LAST-MODIFIED:20251006T193249Z
UID:18978-1760781600-1760785200@hubbardstonpubliclibrary.org
SUMMARY:Saturday Nonesuch Storytime!
DESCRIPTION:Since some holidays fall on a Monday\, and sometimes inclement weather forces us to close for safety\, Miss Tricia is coming in for a special Story Time on Saturday October 18\, 2025! Start time is 10:00 a.m. and as usual\, no registration is necessary and any age child is welcome.
URL:https://hubbardstonpubliclibrary.org/event/saturday-nonesuch-storytime/
LOCATION:Children’s Room
END:VEVENT
BEGIN:VEVENT
DTSTART;TZID=America/New_York:20251023T170000
DTEND;TZID=America/New_York:20251023T180000
DTSTAMP:20260424T020053
CREATED:20251006T193506Z
LAST-MODIFIED:20251006T193506Z
UID:18980-1761238800-1761242400@hubbardstonpubliclibrary.org
SUMMARY:Ooky-Spooky Bedtime Story!
DESCRIPTION:Join Miss Tricia for a special ooky-spooky bedtime story!
URL:https://hubbardstonpubliclibrary.org/event/ooky-spooky-bedtime-story/
LOCATION:Children’s Room
END:VEVENT
BEGIN:VEVENT
DTSTART;TZID=America/New_York:20260109T180000
DTEND;TZID=America/New_York:20260109T200000
DTSTAMP:20260424T020053
CREATED:20251229T202928Z
LAST-MODIFIED:20251229T202929Z
UID:19070-1767981600-1767988800@hubbardstonpubliclibrary.org
SUMMARY:+14 Dungeons and Dragons
DESCRIPTION:Calling all teen adventurers! Come join us in the library for Dungeons and Dragons….and there will be dragons. Players 14 and up will embark on adventures with characters straight out of your imagination battling monsters\, quizzing wandering traders and making unlikely friendships along the way. If you are interested\, please fill out the form https://forms.gle/LsS24pP13kmbVw8F7 and more information to come!
URL:https://hubbardstonpubliclibrary.org/event/14-dungeons-and-dragons/
END:VEVENT
BEGIN:VEVENT
DTSTART;TZID=America/New_York:20260211T100000
DTEND;TZID=America/New_York:20260211T110000
DTSTAMP:20260424T020053
CREATED:20260204T183835Z
LAST-MODIFIED:20260204T191116Z
UID:19111-1770804000-1770807600@hubbardstonpubliclibrary.org
SUMMARY:Nonesuch Storytime!
DESCRIPTION:
URL:https://hubbardstonpubliclibrary.org/event/nonesuch-storytime-15/
CATEGORIES:Story Time
ATTACH;FMTTYPE=image/png:https://hubbardstonpubliclibrary.org/wp-content/uploads/storytime1-transparent-upscaled-e1770231311782.png
END:VEVENT
BEGIN:VEVENT
DTSTART;TZID=America/New_York:20260213T180000
DTEND;TZID=America/New_York:20260213T200000
DTSTAMP:20260424T020053
CREATED:20260204T193617Z
LAST-MODIFIED:20260209T204710Z
UID:19125-1771005600-1771012800@hubbardstonpubliclibrary.org
SUMMARY:Dungeons & Dragons for Teens (+14)
DESCRIPTION:Calling all teen adventurers! Come join us in the library for Dungeons and Dragons….and there will be dragons. Players will embark on adventures with characters straight out of your imagination battling monsters\, quizzing wandering traders and making unlikely friendships along the way. If you are interested\, please fill out the form https://forms.gle/LsS24pP13kmbVw8F7 and more information to come!
URL:https://hubbardstonpubliclibrary.org/event/dungeons-dragons/
END:VEVENT
BEGIN:VEVENT
DTSTART;TZID=America/New_York:20260214T120000
DTEND;TZID=America/New_York:20260214T130000
DTSTAMP:20260424T020053
CREATED:20260204T191735Z
LAST-MODIFIED:20260209T204615Z
UID:19123-1771070400-1771074000@hubbardstonpubliclibrary.org
SUMMARY:Teddy Bear Tea Party!
DESCRIPTION:Join us this Saturday for a splendid time in the library! Bring your favorite stuffed friend to share a spot of tea with and a sweet treat. Teatime is at Noon\, please feel free to park in the lot next to the Library or at the First Meeting House. All ages are welcome\, fancy dress is completely encouraged but not required\, no registration is necessary.
URL:https://hubbardstonpubliclibrary.org/event/teddy-bear-tea-party/
CATEGORIES:Special
END:VEVENT
BEGIN:VEVENT
DTSTART;TZID=America/New_York:20260217T163000
DTEND;TZID=America/New_York:20260217T183000
DTSTAMP:20260424T020053
CREATED:20251229T201213Z
LAST-MODIFIED:20260204T191100Z
UID:19065-1771345800-1771353000@hubbardstonpubliclibrary.org
SUMMARY:Not Just Knitting
DESCRIPTION:Bring your needles\, hooks\, cross stitch\, felting\, yarn or what have you and spend a couple hours with other crafters. No registration is necessary\, Just come and have fun!
URL:https://hubbardstonpubliclibrary.org/event/not-just-knitting-7/
CATEGORIES:Adults
END:VEVENT
BEGIN:VEVENT
DTSTART;TZID=America/New_York:20260218T100000
DTEND;TZID=America/New_York:20260218T110000
DTSTAMP:20260424T020053
CREATED:20260204T190401Z
LAST-MODIFIED:20260204T191045Z
UID:19118-1771408800-1771412400@hubbardstonpubliclibrary.org
SUMMARY:Nonesuch Storytime!
DESCRIPTION:Come join Miss Tricia for Nonesuch Storytime! with a book and craft on Wednesdays! Children of all ages are welcome and no registration is necessary.
URL:https://hubbardstonpubliclibrary.org/event/nonesuch-storytime-16/
CATEGORIES:Story Time
END:VEVENT
BEGIN:VEVENT
DTSTART;TZID=America/New_York:20260225T100000
DTEND;TZID=America/New_York:20260225T110000
DTSTAMP:20260424T020053
CREATED:20260204T190624Z
LAST-MODIFIED:20260204T191030Z
UID:19121-1772013600-1772017200@hubbardstonpubliclibrary.org
SUMMARY:Nonesuch Storytime!
DESCRIPTION:Come join Miss Tricia for Nonesuch Storytime! with a book and craft on Wednesdays! Children of all ages are welcome and no registration is necessary.
URL:https://hubbardstonpubliclibrary.org/event/nonesuch-storytime-17/
CATEGORIES:Story Time
END:VEVENT
BEGIN:VEVENT
DTSTART;TZID=America/New_York:20260226T180000
DTEND;TZID=America/New_York:20260226T200000
DTSTAMP:20260424T020053
CREATED:20260204T185212Z
LAST-MODIFIED:20260225T203133Z
UID:19113-1772128800-1772136000@hubbardstonpubliclibrary.org
SUMMARY:Monday Night Book Club RESCHEDULED TO FEBRUARY 23rd
DESCRIPTION:February’s book selection is Have a Date with Your TBR! Join us for a fun-filled hour of book talk!
URL:https://hubbardstonpubliclibrary.org/event/monday-night-book-club/
CATEGORIES:Adults
END:VEVENT
BEGIN:VEVENT
DTSTART;TZID=America/New_York:20260303T163000
DTEND;TZID=America/New_York:20260303T183000
DTSTAMP:20260424T020053
CREATED:20260219T232848Z
LAST-MODIFIED:20260219T232901Z
UID:19163-1772555400-1772562600@hubbardstonpubliclibrary.org
SUMMARY:Not Just Knitting
DESCRIPTION:
URL:https://hubbardstonpubliclibrary.org/event/not-just-knitting-8/
END:VEVENT
BEGIN:VEVENT
DTSTART;TZID=America/New_York:20260323T180000
DTEND;TZID=America/New_York:20260323T200000
DTSTAMP:20260424T020053
CREATED:20260209T205611Z
LAST-MODIFIED:20260219T232605Z
UID:19143-1774288800-1774296000@hubbardstonpubliclibrary.org
SUMMARY:Monday Night Book Club
DESCRIPTION:March’s book selection is “Circe” by Madeline Miller. Join us for a fun-filled hour of book talk! Let the front desk know if you need a copy.
URL:https://hubbardstonpubliclibrary.org/event/monday-night-book-club-2/
CATEGORIES:Adults
END:VEVENT
BEGIN:VEVENT
DTSTART;TZID=America/New_York:20260325T100000
DTEND;TZID=America/New_York:20260325T110000
DTSTAMP:20260424T020053
CREATED:20260323T132006Z
LAST-MODIFIED:20260323T132006Z
UID:19191-1774432800-1774436400@hubbardstonpubliclibrary.org
SUMMARY:Nonesuch Storytime!
DESCRIPTION:Come join Miss Tricia for Nonesuch Storytime! with a book and craft on Wednesdays! Children of all ages are welcome and no registration is necessary.
URL:https://hubbardstonpubliclibrary.org/event/nonesuch-storytime-14/
CATEGORIES:Story Time
END:VEVENT
BEGIN:VEVENT
DTSTART;TZID=America/New_York:20260325T110000
DTEND;TZID=America/New_York:20260325T120000
DTSTAMP:20260424T020053
CREATED:20260323T133731Z
LAST-MODIFIED:20260323T133732Z
UID:19204-1774436400-1774440000@hubbardstonpubliclibrary.org
SUMMARY:Senior Book Club
DESCRIPTION:Join us at the Senior Center in the Slade Building at 7 Main Street Hubbardston for the Senior Book Club.  this month’s selection is “Bad Monkey” by Carl Hiassen.
URL:https://hubbardstonpubliclibrary.org/event/senior-book-club/
END:VEVENT
BEGIN:VEVENT
DTSTART;TZID=America/New_York:20260327T180000
DTEND;TZID=America/New_York:20260327T200000
DTSTAMP:20260424T020053
CREATED:20260204T194406Z
LAST-MODIFIED:20260323T132422Z
UID:19127-1774634400-1774641600@hubbardstonpubliclibrary.org
SUMMARY:Dungeons & Dragons for Tweens (13 and Under)
DESCRIPTION:Calling all tween adventurers! Come join us in the library for Dungeons and Dragons….and there will be dragons. Players will embark on adventures with characters straight out of your imagination battling monsters\, quizzing wandering traders and making unlikely friendships along the way. If you are interested\, please fill out the form https://forms.gle/LsS24pP13kmbVw8F7 and more information to come!
URL:https://hubbardstonpubliclibrary.org/event/dungeons-dragons-2/
CATEGORIES:Teens
END:VEVENT
BEGIN:VEVENT
DTSTART;TZID=America/New_York:20260401T100000
DTEND;TZID=America/New_York:20260401T110000
DTSTAMP:20260424T020053
CREATED:20260323T132040Z
LAST-MODIFIED:20260323T132041Z
UID:19193-1775037600-1775041200@hubbardstonpubliclibrary.org
SUMMARY:Nonesuch Storytime!
DESCRIPTION:Come join Miss Tricia for Nonesuch Storytime! with a book and craft on Wednesdays! Children of all ages are welcome and no registration is necessary.
URL:https://hubbardstonpubliclibrary.org/event/nonesuch-storytime-18/
CATEGORIES:Story Time
END:VEVENT
BEGIN:VEVENT
DTSTART;TZID=America/New_York:20260406T130000
DTEND;TZID=America/New_York:20260406T140000
DTSTAMP:20260424T020053
CREATED:20260402T210124Z
LAST-MODIFIED:20260402T210125Z
UID:19218-1775480400-1775484000@hubbardstonpubliclibrary.org
SUMMARY:Monday Nonesuch Storytime!
DESCRIPTION:Monday Nonesuch Storytime! is back! Join Miss Tricia for a fun-filled hour as she entertains everyone with a book and craft Children of all ages are welcome and no registration is necessary. Nonesuch Storytime! is held in the Children’s Reading Room of the Hubbardston Public Library.
URL:https://hubbardstonpubliclibrary.org/event/monday-nonesuch-storytime/
CATEGORIES:Story Time
END:VEVENT
BEGIN:VEVENT
DTSTART;TZID=America/New_York:20260408T100000
DTEND;TZID=America/New_York:20260408T110000
DTSTAMP:20260424T020053
CREATED:20260323T132114Z
LAST-MODIFIED:20260323T132115Z
UID:19195-1775642400-1775646000@hubbardstonpubliclibrary.org
SUMMARY:Nonesuch Storytime!
DESCRIPTION:Come join Miss Tricia for Nonesuch Storytime! with a book and craft on Wednesdays! Children of all ages are welcome and no registration is necessary.
URL:https://hubbardstonpubliclibrary.org/event/nonesuch-storytime-19/
CATEGORIES:Story Time
END:VEVENT
BEGIN:VEVENT
DTSTART;TZID=America/New_York:20260415T100000
DTEND;TZID=America/New_York:20260415T110000
DTSTAMP:20260424T020053
CREATED:20260323T132241Z
LAST-MODIFIED:20260323T132242Z
UID:19199-1776247200-1776250800@hubbardstonpubliclibrary.org
SUMMARY:Nonesuch Storytime!
DESCRIPTION:Come join Miss Tricia for Nonesuch Storytime! with a book and craft on Wednesdays! Children of all ages are welcome and no registration is necessary.
URL:https://hubbardstonpubliclibrary.org/event/nonesuch-storytime-21/
CATEGORIES:Story Time
END:VEVENT
BEGIN:VEVENT
DTSTART;TZID=America/New_York:20260422T100000
DTEND;TZID=America/New_York:20260422T110000
DTSTAMP:20260424T020053
CREATED:20260323T132138Z
LAST-MODIFIED:20260323T132210Z
UID:19197-1776852000-1776855600@hubbardstonpubliclibrary.org
SUMMARY:Nonesuch Storytime!
DESCRIPTION:Come join Miss Tricia for Nonesuch Storytime! with a book and craft on Wednesdays! Children of all ages are welcome and no registration is necessary.
URL:https://hubbardstonpubliclibrary.org/event/nonesuch-storytime-20/
CATEGORIES:Story Time
END:VEVENT
BEGIN:VEVENT
DTSTART;TZID=America/New_York:20260429T100000
DTEND;TZID=America/New_York:20260429T110000
DTSTAMP:20260424T020053
CREATED:20260323T132306Z
LAST-MODIFIED:20260323T132306Z
UID:19201-1777456800-1777460400@hubbardstonpubliclibrary.org
SUMMARY:Nonesuch Storytime!
DESCRIPTION:Come join Miss Tricia for Nonesuch Storytime! with a book and craft on Wednesdays! Children of all ages are welcome and no registration is necessary.
URL:https://hubbardstonpubliclibrary.org/event/nonesuch-storytime-22/
CATEGORIES:Story Time
END:VEVENT
END:VCALENDAR